BEGIN:VCALENDAR
VERSION:2.0
PRODID:-//The Impact of Digital Technology on First Nations Participation and Governance - ECPv6.15.20//NONSGML v1.0//EN
CALSCALE:GREGORIAN
METHOD:PUBLISH
X-ORIGINAL-URL:http://www.digitalimpactfn.com
X-WR-CALDESC:Events for The Impact of Digital Technology on First Nations Participation and Governance
REFRESH-INTERVAL;VALUE=DURATION:PT1H
X-Robots-Tag:noindex
X-PUBLISHED-TTL:PT1H
BEGIN:VTIMEZONE
TZID:UTC
BEGIN:STANDARD
TZOFFSETFROM:+0000
TZOFFSETTO:+0000
TZNAME:UTC
DTSTART:20140101T000000
END:STANDARD
END:VTIMEZONE
BEGIN:VEVENT
DTSTART;TZID=UTC:20151030T090000
DTEND;TZID=UTC:20151030T180000
DTSTAMP:20260424T225812
CREATED:20151027T013003Z
LAST-MODIFIED:20151027T013003Z
UID:35739-1446195600-1446228000@www.digitalimpactfn.com
SUMMARY:The Fifty Year Legacy of The Institute of Social Research
DESCRIPTION:Click the links below to learn more about the conference: \nISR Conference Information \nISR 50th Year – Program
URL:http://www.digitalimpactfn.com/event/the-fifty-year-legacy-of-the-institute-of-social-research/
CATEGORIES:Conference
END:VEVENT
END:VCALENDAR